BEGIN:VCALENDAR
VERSION:2.0
PRODID:nkc_event TYPO3 Extension
METHOD:PUBLISH
BEGIN:VEVENT
UID:7962fdaef83b14eab137e8ce9bdaa6e5
LOCATION:Evangelische Christuskirche Hansühn
SUMMARY:Konfirmation I  in der Christuskirche Hansühn\, Pastorin Haustein
DESCRIPTION:
CLASS:PUBLIC
DTSTART:20260516T090000Z
DTEND:20260516T100000Z
DTSTAMP:20260422T123424Z
END:VEVENT

END:VCALENDAR