BEGIN:VCALENDAR
VERSION:2.0
PRODID:nkc_event TYPO3 Extension
METHOD:PUBLISH
BEGIN:VEVENT
UID:2c386a844a355329d8c3d3a6c712650d
LOCATION:Gemeindehaus II
SUMMARY:ABENTEUERLAND
DESCRIPTION:
CLASS:PUBLIC
DTSTART:20260904T133000Z
DTEND:20260904T143000Z
DTSTAMP:20260425T111948Z
END:VEVENT

END:VCALENDAR