BEGIN:VCALENDAR
VERSION:2.0
PRODID:nkc_event TYPO3 Extension
METHOD:PUBLISH
BEGIN:VEVENT
UID:04160539c7da24754f24f6c8aaf4fca2
LOCATION:Christian Jensen Kolleg gGmbH
SUMMARY:Wie gestalte ich Gottesdienste und Andachten?
DESCRIPTION:Grund-Qualifizierung in sechs WochenendenWie bereite ich eine Andacht vor? Welches Handwerkszeug brauche ich zur Vorbereitung eines Gottesdienstes? Wenn Sie Lust und Freude an der Gestaltung unterschiedlicher geistlicher Formate haben oder wenn Sie in ihren Gemeinden und Einrichtungen immer wieder mit der Übernahme von Andachten und Gottesdiensten zu tun haben und sich gern sicherer in Vorbereitung und Durchführung fühlen würden\, sind Sie hier genau richtig. In sechs Wochenenden bieten wir einen fundierten\, komprimierten Einblick in die Gestaltung verschiedener gottesdienstlicher Formate. Wie bereite ich eine Andacht vor? Welches Handwerkszeug brauche ich zur Vorbereitung eines Gottesdienstes? Wenn Sie Lust und Freude an der Gestaltung unterschiedlicher geistlicher Formate haben oder wenn Sie in ihren Gemeinden und Einrichtungen immer wieder mit der Übernahme von Andachten und Gottesdiensten zu tun haben und sich gern sicherer in Vorbereitung und Durchführung fühlen würden\, sind Sie hier genau richtig. In sechs Wochenenden bieten wir einen fundierten\, komprimierten Einblick in die Gestaltung verschiedener gottesdienstlicher Formate. Die Teilnahme an dieser Reihe kann für die Ausbildung zum Prädikanten/Prädikanten angerechnet werden.Anmeldung":" 15.03.2026 info@christianjensenkolleg.de oder 04671/9112-0
CLASS:PUBLIC
DTSTART:20261009T150000Z
DTEND:20261011T110000Z
DTSTAMP:20260423T085304Z
END:VEVENT

END:VCALENDAR