BEGIN:VCALENDAR
VERSION:2.0
PRODID:nkc_event TYPO3 Extension
METHOD:PUBLISH
BEGIN:VEVENT
UID:d8f6d86c13bea7ac2dd4ff39651a6251
LOCATION:St.-Laurentius-Kirche Schönberg
SUMMARY:40. Schönberger Musiksommer - Sjaella":" “Among The Branches”
DESCRIPTION:Sjaella und der Schönberger Musiksommer waren schon ein „Perfekt Match“ als Beziehungen noch humoristisch als Topf und Deckel bezeichnet wurden. Als der ältere Partner konnte das Schönberger Publikum über viele Jahre begeistert die Entwicklungswege des einzigartigen Leipziger Vokalsextetts verfolgen. Grund genug\, bis zum nächsten Zusammenkommen nicht allzu lange zu warten. Und so bringen die mittlerweile welterfahrenen Profisängerinnen diesmal wieder ein richtiges Rundherumwohlfühl-Programm nach Schönberg.„Inmitten der Zweige“ lautet der Titel des Programms\, das sich dem Vogelgesang\, den Jahreszeiten\, dem Wechsel von Tag und Nacht\, dem Mond- und anderen Zyklen sowie auch geheimnisvollen Wesen der nordischen Mythologie und natürlich der Liebe widmet. Musik von Henry Purcell\, Clément Janequin\, Caroline Shaw u.a. bezeichnen seine Stationen\, an die uns die magischen Stimmen von Sjaella mitnehmen.Sjaella ist die Seele der Frauen\, die seit 2005 gemeinsam auf der Bühne stehen und ihren kindlichen Erfahrungsraum seither nicht verloren haben. In diesem nährt sich Gemeinschaft von Spiel und individueller Stärke. Da sind Bewegung\, Sprache\, Geräusch und Klang\; da sind Körper. Fokus und gemeinsamer Atem. Die Einheit all dessen ist es\, was Sjaellaerleben und geben möchte. Und dies tun die Künstlerinnen mittlerweile auf Konzertreisen weltweit – zuletzt in Südafrika\, Belgien\, Spanien und Norwegen – und wurden immer wieder mit ersten Preisen zahlreicher Wettbewerbe ausgezeichnet.
CLASS:PUBLIC
DTSTART:20260825T180000Z
DTEND:20260825T190000Z
DTSTAMP:20260419T145046Z
END:VEVENT

END:VCALENDAR