BEGIN:VCALENDAR
VERSION:2.0
PRODID:nkc_event TYPO3 Extension
METHOD:PUBLISH
BEGIN:VEVENT
UID:b205d0b02b969eb488d5edd1f7d5ee16
LOCATION:Bühne
SUMMARY:Ökumenischer Gottesdienst
DESCRIPTION:Ökumenischer Gottesdienst auf dem Stadtfest\, Hagener Allee
CLASS:PUBLIC
DTSTART:20260607T090000Z
DTEND:20260607T100000Z
DTSTAMP:20260422T123315Z
END:VEVENT

END:VCALENDAR