BEGIN:VCALENDAR
VERSION:2.0
PRODID:nkc_event TYPO3 Extension
METHOD:PUBLISH
BEGIN:VEVENT
UID:bad10b88c30b5673a1aab295adda562c
LOCATION:Hauptkirche St. Jacobi
SUMMARY:Orgelkonzert Gerhard Löffler
DESCRIPTION:Die Leipziger Choräle BWV 651–668Johann Sebastian Bach zum 276. Todestag*21. März 1685 in Eisenach † 28. Juli 1750 in LeipzigAchtzehn Choräle von verschiedener Art\,auf einer Orgel mit 2 Clav. und Pedal vorzuspielen
CLASS:PUBLIC
DTSTART:20260728T180000Z
DTEND:20260728T190000Z
DTSTAMP:20260420T144229Z
END:VEVENT

END:VCALENDAR