BEGIN:VCALENDAR
VERSION:2.0
PRODID:nkc_event TYPO3 Extension
METHOD:PUBLISH
BEGIN:VEVENT
UID:39e8659d1d8ffc743be1a71aab334147
LOCATION:Friedenskirche
SUMMARY:Gottesdienst mit Taufe
DESCRIPTION:
CLASS:PUBLIC
DTSTART:20260614T080000Z
DTEND:20260614T090000Z
DTSTAMP:20260421T193524Z
END:VEVENT

END:VCALENDAR