BEGIN:VCALENDAR
VERSION:2.0
PRODID:nkc_event TYPO3 Extension
METHOD:PUBLISH
BEGIN:VEVENT
UID:2c268cbaa0ef67cdd13227c9206fbeee
LOCATION:Feuerwehrhaus Willingrade
SUMMARY:Gottesdienst im Feuerwehrhaus Willingrade
DESCRIPTION:
CLASS:PUBLIC
DTSTART:20260912T130000Z
DTEND:20260912T140000Z
DTSTAMP:20260423T162126Z
END:VEVENT

END:VCALENDAR