BEGIN:VCALENDAR
VERSION:2.0
PRODID:nkc_event TYPO3 Extension
METHOD:PUBLISH
BEGIN:VEVENT
UID:d76a946be7976d129188fdd4bf36bfb3
LOCATION:Haus der Begegnung
SUMMARY:Posaunenchorprobe
DESCRIPTION:
CLASS:PUBLIC
DTSTART:20260313T180000Z
DTEND:20260313T193000Z
DTSTAMP:20260419T131758Z
END:VEVENT

END:VCALENDAR