BEGIN:VCALENDAR
VERSION:2.0
PRODID:nkc_event TYPO3 Extension
METHOD:PUBLISH
BEGIN:VEVENT
UID:63a09352c932f86f58891fc04ffd867f
LOCATION:Bramfelder See
SUMMARY:Gottesdienst am Bramfelder See
DESCRIPTION:Ökumenischer Gottesdienst auf der Wiese am Bramfelder See zu HimmelfahrtBramfeld Blech\, Werner Lamm und Daira Kuge-Hell gestalten den Gottesdienst musikalisch. So haben wir einen Raum\, in dem man ankommen\, aufatmen und sich verbunden fühlen kann - mit Gott\, mit anderen und mit der Schöpfung.
CLASS:PUBLIC
DTSTART:20260514T090000Z
DTEND:20260514T100000Z
DTSTAMP:20260422T123541Z
END:VEVENT

END:VCALENDAR