BEGIN:VCALENDAR
VERSION:2.0
PRODID:nkc_event TYPO3 Extension
METHOD:PUBLISH
BEGIN:VEVENT
UID:3e4021788811c9c8d330637c2c2516ac
LOCATION:St. Johannis - Kulturkirche Altona
SUMMARY:Gottesdienst
DESCRIPTION:
CLASS:PUBLIC
DTSTART:20260607T100000Z
DTEND:20260607T110000Z
DTSTAMP:20260421T193500Z
END:VEVENT

END:VCALENDAR