BEGIN:VCALENDAR
VERSION:2.0
PRODID:nkc_event TYPO3 Extension
METHOD:PUBLISH
BEGIN:VEVENT
UID:30a08d9a75f921b954489c6b5ddb86ba
LOCATION:St. Marien - Schmerzhafte Mutter
SUMMARY:Hl. Messe
DESCRIPTION:
CLASS:PUBLIC
DTSTART:20260423T160000Z
DTEND:20260423T170000Z
DTSTAMP:20260420T042155Z
END:VEVENT

END:VCALENDAR