BEGIN:VCALENDAR
VERSION:2.0
PRODID:nkc_event TYPO3 Extension
METHOD:PUBLISH
BEGIN:VEVENT
UID:0b7daddad503ca7b171ef504a1ce3ee7
LOCATION:Besenbinderhof
SUMMARY:Wer bekommt Recht\, wer nicht? – Gleichheitsversprechen und soziale Realität
DESCRIPTION:Das zentrale Versprechen des Rechtsstaats ist es\, dass Justitia blind ist. Doch Verfassungsanspruch und Wirklichkeit klaffen zuweilen auseinander. Das schafft nicht nur für Betroffene Probleme. Es gefährdet zudem die Wertschätzung für ein demokratisches Gemeinwesen. In Zeiten einer weltweiten Erosion des Rechts allemal. Was ist zu tun\, damit vor Gericht wirklich alle gleich sind? In Kooperation mit der AG Soziales Hamburg\, der Bucerius Law School und dem Hamburgischen Anwaltverein Veranstaltungsart":"Tagung Teilnahmebeitrag":"20 Euro\, kostenfrei für Studierende Studienleitung":"Jürgen Heilig Link zur Veranstaltung":"https":"//akademie-nordkirche.de/veranstaltungen/aktuelles/1592
CLASS:PUBLIC
DTSTART:20260423T073000Z
DTEND:20260423T150000Z
DTSTAMP:20260422T123825Z
END:VEVENT

END:VCALENDAR