BEGIN:VCALENDAR
VERSION:2.0
PRODID:nkc_event TYPO3 Extension
METHOD:PUBLISH
BEGIN:VEVENT
UID:61c1371b090dacbf7f8574c591d495f5
LOCATION:Online
SUMMARY:Wie die Zeit vergeht! Astronomische Uhren des Mittelalters
DESCRIPTION:Dann schauen Sie doch im Kunst-Salon EXTRA herein. Monatlich werden Kunstwerke und Künstler*innen verschiedener Epochen in einem Kurzvortrag vorgestellt und anschließend in der Gruppe besprochen.Die ersten Orte\, an denen Uhren die Zeit der Stadtbevölkerung einteilten\, waren die Kirchen. Turmuhren oder die beeindruckenden astronomischen Uhren waren nicht nur technisch-innovative Wunderwerke der Mechanik\, sondern stellten auch die Verbindung her zwischen der göttlich bestimmten Heilsgeschichte und dem zunehmenden Bedürfnis nach effizienter Einteilung des Tages. Wir betrachten einige der bedeutenden astronomischen Uhren in Norddeutschland.
CLASS:PUBLIC
DTSTART:20261125T180000Z
DTEND:20261125T193000Z
DTSTAMP:20260420T130038Z
END:VEVENT

END:VCALENDAR