BEGIN:VCALENDAR
VERSION:2.0
PRODID:nkc_event TYPO3 Extension
METHOD:PUBLISH
BEGIN:VEVENT
UID:789b30286871f7a07d27999f89b8e7c3
LOCATION:Ev.-Luth. Kirchengemeinde Curau
SUMMARY:Grillfest der Senioren
DESCRIPTION:
CLASS:PUBLIC
DTSTART:20260619T133000Z
DTEND:20260619T150000Z
DTSTAMP:20260422T041124Z
END:VEVENT

END:VCALENDAR