BEGIN:VCALENDAR
VERSION:2.0
PRODID:nkc_event TYPO3 Extension
METHOD:PUBLISH
BEGIN:VEVENT
UID:62c212d199534d18e4286af7b3616d69
LOCATION:Curauer Kirche
SUMMARY:Gottesdienst
DESCRIPTION:Sie sind herzlich willkommen!
CLASS:PUBLIC
DTSTART:20260426T080000Z
DTEND:20260426T090000Z
DTSTAMP:20260422T041134Z
END:VEVENT

END:VCALENDAR