BEGIN:VCALENDAR
VERSION:2.0
PRODID:nkc_event TYPO3 Extension
METHOD:PUBLISH
BEGIN:VEVENT
UID:ccbe08d66d756d7fc88f5a23f30a1ea7
LOCATION:Offene Kirche St. Nikolai in Kiel
SUMMARY:Meisterkonzert":" Sarod & Tabla aus Indien
DESCRIPTION:Mit Prosenjit Sengupta (Sarod) und Subrata Manna (Tabla) kommen zweiindische Meistermusiker nach Kiel. Die Virtuosität und Leidenschaft fürden reinen Klang der indischen Ragas verbindet die beiden Musiker ausKalkutta seit Jahren. Kombiniert zur virtuosen Technik mit ihrer warmenund ausdrucksstarken Klangsprache des Sarod\, bringt Subrata Manna einerhytmische Rafinesse und musikalische Sensibilität ein\, die das Publikummitten in die Schönheit der nordindischen klassischen Musik hineinziehtund sich leicht für andere musikalische Traditionen und Regelnbegeistern lässt. Beide Künstler sind internationale Solisten und tretenseit vielen Jahren auf bedeutenden Bühnen weltweit auf.Für die Mandelzweig-Projekthilfe e.V. sind die Musiker regelmäßig inNord-Deutschland unterwegs und unterstützen durch ihre Konzerte dieArbeit des Hilfswerks auf den Teeplantagen von Assam. Eintritt frei\, Spenden für die Projektarbeit derMandelzweig-Projekthilfe e.V. möglich
CLASS:PUBLIC
DTSTART:20260510T160000Z
DTEND:20260510T170000Z
DTSTAMP:20260419T183810Z
END:VEVENT

END:VCALENDAR