BEGIN:VCALENDAR
VERSION:2.0
PRODID:nkc_event TYPO3 Extension
METHOD:PUBLISH
BEGIN:VEVENT
UID:809d01352452a83ac2c25fdce3f7ee43
LOCATION:St. Jacobi-Kirche
SUMMARY:Große Kammermusik
DESCRIPTION:Magdalena Bogner\, QuerflöteKonzertmeister und Solovioline":" Gabriel Adorján Eine Bachwoche ohne Große Kammermusik? Unvorstellbar. Seit über 50 Jahren gibt es nun schon die Zusammenarbeit mit Ensemblemitgliedern des Orchesters der Komischen Oper Berlin. Zunächst unter der Leitung von Ulf Däunert – jetzt mit Gabriel Adorján als Konzertmeister – begleitet dieses Orchester nicht nur die großen Oratorien und die täglichen Bach-Kantaten. Gerade bei der Großen Kammermusik zeigt es seine besondere Exzellenz.Zum 80. Jubiläum spielen die Musiker*innen Johann Sebastian Bachs Orchestersuite Nr. 2 in h-Moll sowie Werke von Ludwig van Beethoven und Wolfgang Amadeus Mozart.38 € / 30 € / 10 € ermäßigtOnline-TicketsconcertPate":" Getränke Nordmann
CLASS:PUBLIC
DTSTART:20260603T180000Z
DTEND:20260603T190000Z
DTSTAMP:20260425T120617Z
END:VEVENT

END:VCALENDAR