BEGIN:VCALENDAR
VERSION:2.0
PRODID:nkc_event TYPO3 Extension
METHOD:PUBLISH
BEGIN:VEVENT
UID:1dc1453f8a58d138d0092b897f7ce499
LOCATION:Ev.-Luth. Thomas-Kirchengemeinde Kiel-Mettenhof
SUMMARY:Konfirmationsgottesdienst
DESCRIPTION:
CLASS:PUBLIC
DTSTART:20260607T090000Z
DTEND:20260607T100000Z
DTSTAMP:20260422T013824Z
END:VEVENT

END:VCALENDAR