BEGIN:VCALENDAR
VERSION:2.0
PRODID:nkc_event TYPO3 Extension
METHOD:PUBLISH
BEGIN:VEVENT
UID:a31d4c9283d0da467012e06796cb96b4
LOCATION:St. Marien Sörup
SUMMARY:Choralblasen vom Kirchturm und DQUOTEMehrDQUOTE
DESCRIPTION:Jeden Sonnabend um 15 Uhr treffen wir uns am Kirchturm\, hören einen Choral\, Texte und DQUOTEMehrDQUOTE. Bei schlechtem Wetter nutzen wir den Kirchenraum. Herzliche Willkommen! Christiane Klang
CLASS:PUBLIC
DTSTART:20260509T130000Z
DTEND:20260509T140000Z
DTSTAMP:20260422T110153Z
END:VEVENT

END:VCALENDAR