BEGIN:VCALENDAR
VERSION:2.0
PRODID:nkc_event TYPO3 Extension
METHOD:PUBLISH
BEGIN:VEVENT
UID:3a618e660a8f982dac09146bd5efd5a9
LOCATION:St. Laurentius Munkbrarup
SUMMARY:Gute-Nacht-Kirche in Munkbrarup
DESCRIPTION:Für Kinder von 0 - 5 Jahren und ihre Eltern / Großeltern.Im Anschluss gemeinsames Abendessen in der Kirche.Um Anmeldung wird gebeten unter Munkbrarup@kirche-slfl.de
CLASS:PUBLIC
DTSTART:20260424T151500Z
DTEND:20260424T161500Z
DTSTAMP:20260423T075228Z
END:VEVENT

END:VCALENDAR