BEGIN:VCALENDAR
VERSION:2.0
PRODID:nkc_event TYPO3 Extension
METHOD:PUBLISH
BEGIN:VEVENT
UID:e0e395956a8f0d5c4e3d4c4092945d31
LOCATION:St. Andreas Kirche Haddeby
SUMMARY:Ökumenischer Pilgerweg (Pfingstmontag)
DESCRIPTION:
CLASS:PUBLIC
DTSTART:20260525T080000Z
DTEND:20260525T090000Z
DTSTAMP:20260422T015939Z
END:VEVENT

END:VCALENDAR