BEGIN:VCALENDAR
VERSION:2.0
PRODID:nkc_event TYPO3 Extension
METHOD:PUBLISH
BEGIN:VEVENT
UID:3ff36e15eaad6daa509007250ddec521
LOCATION:Ev.-Luth. Kirchengemeinde Westerrönfeld
SUMMARY:Altenkreis
DESCRIPTION:Der Altenkreis trifft sich regelmäßig in der Lutherkiche zu festen Terminen.Außerdem gibt es noch besondere Termine\, wie das Osterfrühstück\, Spargelessen\, Sommerfest und Weihnachtsfeier.Bei uns steht die Gemeinschaft im Vordergrund. Wir freuen uns immer über neue Mitglieder!Ansprechpartnerin ist Angela Janiak\; Telefon 04331-80720.
CLASS:PUBLIC
DTSTART:20260520T123000Z
DTEND:20260520T143000Z
DTSTAMP:20260425T114429Z
END:VEVENT

END:VCALENDAR