BEGIN:VCALENDAR
VERSION:2.0
PRODID:nkc_event TYPO3 Extension
METHOD:PUBLISH
BEGIN:VEVENT
UID:7ec7bcca4cb2f8e27ac2186d87b18c5f
LOCATION:Andreaskirche Seth
SUMMARY:Konfirmation\, Pastor Schott
DESCRIPTION:
CLASS:PUBLIC
DTSTART:20260509T090000Z
DTEND:20260509T100000Z
DTSTAMP:20260423T141824Z
END:VEVENT

END:VCALENDAR