BEGIN:VCALENDAR
VERSION:2.0
PRODID:nkc_event TYPO3 Extension
METHOD:PUBLISH
BEGIN:VEVENT
UID:e8f846e94965c9413ec93cd0f005406b
LOCATION:St. Jürgen Kirche Flensburg
SUMMARY:Frühlingskonzert
DESCRIPTION:Blumen sind Sinnbild der Liebe":" Lieder von Edvard Grieg\, Robert und Clara Schumann\, Johannes Brahms\, Felix Mendelssohn und Franz Schubert. Orgelvariationen von Georg Böhm sowie ausgewählte Gedichte ergänzen das Programm.Marni Schwonberg\, Sopran\, und Rainer Rafalsky\, Orgel.
CLASS:PUBLIC
DTSTART:20260531T140000Z
DTEND:20260531T150000Z
DTSTAMP:20260422T184409Z
END:VEVENT

END:VCALENDAR