BEGIN:VCALENDAR
VERSION:2.0
PRODID:nkc_event TYPO3 Extension
METHOD:PUBLISH
BEGIN:VEVENT
UID:e53ed7214ca7343e45b91683e7ed7a34
LOCATION:Gemeindehaus I
SUMMARY:Singekreis
DESCRIPTION:
CLASS:PUBLIC
DTSTART:20260424T130000Z
DTEND:20260424T140000Z
DTSTAMP:20260424T034727Z
END:VEVENT

END:VCALENDAR