BEGIN:VCALENDAR
VERSION:2.0
PRODID:nkc_event TYPO3 Extension
METHOD:PUBLISH
BEGIN:VEVENT
UID:0a0a716ba51d07f86de7cf4a4a984b62
LOCATION:Vicelin-Kirche St. Jakobi
SUMMARY:Gottesdienst mit Pn Jenett
DESCRIPTION:
CLASS:PUBLIC
DTSTART:20260510T080000Z
DTEND:20260510T090000Z
DTSTAMP:20260423T170714Z
END:VEVENT

END:VCALENDAR