BEGIN:VCALENDAR
VERSION:2.0
PRODID:nkc_event TYPO3 Extension
METHOD:PUBLISH
BEGIN:VEVENT
UID:30ac4eea9b2aca9bbd386e097705b3e8
LOCATION:Gemeindesaal der Paulusgemeinde
SUMMARY:Kinderchor im Gemeindehaus der Paulusgemeinde
DESCRIPTION:Der Kinderchor der Ev.-Luth. Paulusgemeinde findet immer samstags von 10":"30 bis 11":"30 Uhr im Gemeindehaus statt (außer an den Verkaufstagen der Kleiderkiste). Wer Interesse hat\, melde sich bitte entweder im Kirchenbüro\, bei Susanne Carstensen (0176/63880399) oder Melanie Jürgensen (0174/7427559). Wir freuen uns auf Euer mitmachen.
CLASS:PUBLIC
DTSTART:20260509T083000Z
DTEND:20260509T093000Z
DTSTAMP:20260420T080848Z
END:VEVENT

END:VCALENDAR