BEGIN:VCALENDAR
VERSION:2.0
PRODID:nkc_event TYPO3 Extension
METHOD:PUBLISH
BEGIN:VEVENT
UID:dc8f7fe9659da40b4e95d279947a149b
LOCATION:Gemeindesaal Vicelin
SUMMARY:Seniorennachmittag
DESCRIPTION:SeniorennachmittageEinladung an alle Seniorinnen und Senioren! Wer aber gerade „frisch“ Geburtstag hatte\, ist ganz besonders eingeladen und soll auch noch einmal besonders gewürdigt werden.Wie immer freuen wir uns darauf\, Sie zu unseren Nachmittagen für Senio-ren und Seniorinnen im Vicelin-Gemeindesaal begrüßen zu dürfen - in der Regel an jedem 2. Donnerstag im Monat von 15 - 17 Uhr.Es wird Kaffee und Kuchen geben\, und wir haben Themen für Sie vorbe-reitet\, über die wir miteinander ins Gespräch kommen wollen.Wie auch zu unseren Gottesdiensten bieten wir zu diesen Nachmittagen einen Taxidienst an. Bitte melden Sie sich im Gemeindebüro (Tel.":" 12 96 57) an\, und teilen Sie uns mit\, mit wie vielen Personen Sie kommen möchten und ob Sie einen Taxidienst benötigen.Und dann fühlen Sie sich bei uns herzlich willkommen.Ihre Franziska Voß
CLASS:PUBLIC
DTSTART:20260507T130000Z
DTEND:20260507T150000Z
DTSTAMP:20260422T123823Z
END:VEVENT

END:VCALENDAR