BEGIN:VCALENDAR
VERSION:2.0
PRODID:nkc_event TYPO3 Extension
METHOD:PUBLISH
BEGIN:VEVENT
UID:106aaf43e299122e262c935ca1a5beb5
LOCATION:https://www.youtube.com/channel/UCBo-WkPXb_39N1EjFLh9n1A
SUMMARY:Gottesdienst mit Abendmahl\, in der Kirche und auf YouTube
DESCRIPTION:Alle sind herzlich eingeladen\, mit uns Gottesdienst  zu feiern
CLASS:PUBLIC
DTSTART:20260607T080000Z
DTEND:20260607T090000Z
DTSTAMP:20260425T210320Z
END:VEVENT

END:VCALENDAR