BEGIN:VCALENDAR
VERSION:2.0
PRODID:nkc_event TYPO3 Extension
METHOD:PUBLISH
BEGIN:VEVENT
UID:ad471f5918492d20422bbc70624d5ff5
LOCATION:Gemeindehaus I
SUMMARY:Kinderchor ab 3. Schuljahr
DESCRIPTION:
CLASS:PUBLIC
DTSTART:20260507T143000Z
DTEND:20260507T153000Z
DTSTAMP:20260420T080712Z
END:VEVENT

END:VCALENDAR