BEGIN:VCALENDAR
VERSION:2.0
PRODID:nkc_event TYPO3 Extension
METHOD:PUBLISH
BEGIN:VEVENT
UID:8887140be2a6e30b67d9ded72f59e200
LOCATION:Curauer Kirche
SUMMARY:Moderner Gottesdienst DQUOTEDer VielfältigeDQUOTE
DESCRIPTION:Sie sind herzlich willkommen!
CLASS:PUBLIC
DTSTART:20260503T080000Z
DTEND:20260503T090000Z
DTSTAMP:20260422T040351Z
END:VEVENT

END:VCALENDAR