BEGIN:VCALENDAR
VERSION:2.0
PRODID:nkc_event TYPO3 Extension
METHOD:PUBLISH
BEGIN:VEVENT
UID:1adb3c703206f6f097f303892a643221
LOCATION:Kompassgemeinde Kirche DQUOTEZum guten HirtenDQUOTE Pries
SUMMARY:Ökumenischer Gottesdienst an Pfingstmontag
DESCRIPTION:
CLASS:PUBLIC
DTSTART:20260525T080000Z
DTEND:20260525T090000Z
DTSTAMP:20260422T123309Z
END:VEVENT

END:VCALENDAR