BEGIN:VCALENDAR
VERSION:2.0
PRODID:nkc_event TYPO3 Extension
METHOD:PUBLISH
BEGIN:VEVENT
UID:c282fe2820dd87011ec9a7698ad97db7
LOCATION:St. Johannis - Kulturkirche Altona
SUMMARY:Junges Talent
DESCRIPTION:Der Domorganist von Segovia in Spanien ist eine Revelation in der Musikszene der letzten Jahre. Nach seinem Studium in München und Madrid hat er zahlreiche Wettbewerbe gewonnen. Er lehrt am Konservatorium in Madrid und ist als Konzertorganist vorwiegend in Europa und Nordafrika zu hören.
CLASS:PUBLIC
DTSTART:20260208T160000Z
DTEND:20260208T170000Z
DTSTAMP:20260421T112214Z
END:VEVENT

END:VCALENDAR