BEGIN:VCALENDAR
VERSION:2.0
PRODID:nkc_event TYPO3 Extension
METHOD:PUBLISH
BEGIN:VEVENT
UID:826b71001053ac784818efdeb27c463c
LOCATION:Gemeindehaus II
SUMMARY:ABENTEUERLAND
DESCRIPTION:
CLASS:PUBLIC
DTSTART:20260821T133000Z
DTEND:20260821T143000Z
DTSTAMP:20260425T112017Z
END:VEVENT

END:VCALENDAR