BEGIN:VCALENDAR
VERSION:2.0
PRODID:nkc_event TYPO3 Extension
METHOD:PUBLISH
BEGIN:VEVENT
UID:88a415c6ea1974fd469c79590e68ffac
LOCATION:Marienkirche Esgrus
SUMMARY:Sitzen in der Stille
DESCRIPTION:Jeden Mittwoch von 17.30 – 18.30 Uhr treffen wir uns in der St Marienkirche in Esgrus.Bitte warme\, bequeme Kleidung und dicke Socken mitbringen.Kontakt":" Marie -Luise JürgensenTel":" 04643 – 2388
CLASS:PUBLIC
DTSTART:20260506T153000Z
DTEND:20260506T163000Z
DTSTAMP:20260422T112114Z
END:VEVENT

END:VCALENDAR