BEGIN:VCALENDAR
VERSION:2.0
PRODID:nkc_event TYPO3 Extension
METHOD:PUBLISH
BEGIN:VEVENT
UID:c1e106789e10c25a733a51875a54e71e
LOCATION:DIGITAL
SUMMARY:Online-Seminar":" TA & Mehr DQUOTEMöge die Klarheit mit dir sein!DQUOTE
DESCRIPTION:Die Transaktionsanalyse (TA) stellt sehr anschauliche Konzepte zur Verfügung\, mit denen Menschen sich selbst und andere bezüglich ihrer erlebten Wirklichkeit reflektieren und verstehen können. Sie ist dazu geeignet\, das Potential der eigenen Persönlichkeit zu entwickeln und zur Entfaltung zu bringen. Sie integriert Gedankengut aus der Tiefenpsychologie\, Gestalttheorie\, Verhaltenstherapie und aus systemischen Ansätzen.TA & Mehr umfasst einzeln buchbare Module.
CLASS:PUBLIC
DTSTART:20260616T140000Z
DTEND:20260616T160000Z
DTSTAMP:20260419T184112Z
END:VEVENT

END:VCALENDAR