BEGIN:VCALENDAR
VERSION:2.0
PRODID:nkc_event TYPO3 Extension
METHOD:PUBLISH
BEGIN:VEVENT
UID:0acc2f4261ca1772198455f6ab074ff7
LOCATION:Maria-Magdalenen Kirche
SUMMARY:Musikalischer Sonntag
DESCRIPTION:Die international bekannte Geigen-Solistin Franziska König spielt virtuose Violinwerke von Johann Sebastian Bach und Eugene Ysaye. Die Sonaten von J.S.Bach und Eugene Ysaye gehören zu den schönsten und ergreifensten Meisterwerken der Weltliteratur für Violine. Auf ihren Konzertreisen als Solistin und Kammermusikerin\, die sie über Europa bis nach Mexiko\, Taiwan\, Russland\, Japan\, China und die USA führen\, begeistert Franziska König die Musikfreunde durch ihre ungewöhnliche Meisterschaft und packende und anrührende Interpretationen. Publikum und Kritiker sind sich einig darin\, daß die sympathische Künstlerin zu den absoluten Spitzenvirtuosen unserer Zeit zu zählen ist. Franziska König spielt auf einer Violine von Giovanni Battista Guadagnini aus dem Jahre 1772Nähere Informationen und Klangbeispiele gibt es unter http":"//www.franziska-koenig.deDas Konzert findet statt am Sonntag\, den 29. März 2026 um 18 Uhr\, im Vorraum der Kirche Maria Magdalenen Klein Borstel\, Stübeheide 175\, 22337 Hamburg. Achtung":" Es gibt nur 40 Plätze! Der Eintritt ist frei.
CLASS:PUBLIC
DTSTART:20260329T160000Z
DTEND:20260329T170000Z
DTSTAMP:20260420T105346Z
END:VEVENT

END:VCALENDAR