BEGIN:VCALENDAR
VERSION:2.0
PRODID:nkc_event TYPO3 Extension
METHOD:PUBLISH
BEGIN:VEVENT
UID:c1d5e58b8f8539cb86cbdba2c3de74cf
LOCATION:Jugendkeller Masurenweg JuKeM
SUMMARY:Modellbau mit Anmeldung
DESCRIPTION:
CLASS:PUBLIC
DTSTART:20260422T133000Z
DTEND:20260422T160000Z
DTSTAMP:20260422T014257Z
END:VEVENT

END:VCALENDAR