BEGIN:VCALENDAR
VERSION:2.0
PRODID:nkc_event TYPO3 Extension
METHOD:PUBLISH
BEGIN:VEVENT
UID:90c0b0614f7a1fad8bdaf2a17579b5f2
LOCATION:Wikinghalle
SUMMARY:Gottesdienst zum Maibaumfest
DESCRIPTION:
CLASS:PUBLIC
DTSTART:20260501T080000Z
DTEND:20260501T090000Z
DTSTAMP:20260424T094106Z
END:VEVENT

END:VCALENDAR