BEGIN:VCALENDAR
VERSION:2.0
PRODID:nkc_event TYPO3 Extension
METHOD:PUBLISH
BEGIN:VEVENT
UID:fe3d08ee2f9e52a17119844aa1eb418a
LOCATION:Ev.-Luth. St. Ansgarkirche in Kiel
SUMMARY:Gottesdienst mit Kindermusical
DESCRIPTION:
CLASS:PUBLIC
DTSTART:20260531T133800Z
DTEND:20260531T143800Z
DTSTAMP:20260423T100325Z
END:VEVENT

END:VCALENDAR