BEGIN:VCALENDAR
VERSION:2.0
PRODID:nkc_event TYPO3 Extension
METHOD:PUBLISH
BEGIN:VEVENT
UID:8750454979674e891f7240abdbab43f5
LOCATION:Pauluskirche Kiel
SUMMARY:Open-Air-Gottesdienst Himmelfahrt
DESCRIPTION:
CLASS:PUBLIC
DTSTART:20260514T080000Z
DTEND:20260514T090000Z
DTSTAMP:20260419T184155Z
END:VEVENT

END:VCALENDAR