BEGIN:VCALENDAR
VERSION:2.0
PRODID:nkc_event TYPO3 Extension
METHOD:PUBLISH
BEGIN:VEVENT
UID:5a09c09d3cbf59419d28a1e5dd396f0d
LOCATION:St. Marien - Schmerzhafte Mutter
SUMMARY:Hl. Messe
DESCRIPTION:
CLASS:PUBLIC
DTSTART:20260426T090000Z
DTEND:20260426T100000Z
DTSTAMP:20260423T141921Z
END:VEVENT

END:VCALENDAR