BEGIN:VCALENDAR
VERSION:2.0
PRODID:nkc_event TYPO3 Extension
METHOD:PUBLISH
BEGIN:VEVENT
UID:6c399883e7fa9261f5041475fdac80e5
LOCATION:St. Marien-Kirche
SUMMARY:Andacht zu Beginn der Passionszeit
DESCRIPTION:
CLASS:PUBLIC
DTSTART:20260218T170000Z
DTEND:20260218T180000Z
DTSTAMP:20260423T085339Z
END:VEVENT

END:VCALENDAR