BEGIN:VCALENDAR
VERSION:2.0
PRODID:nkc_event TYPO3 Extension
METHOD:PUBLISH
BEGIN:VEVENT
UID:059d15be062c341b7aec2bea7199a336
LOCATION:St. Nicolai-Kirche
SUMMARY:Anschl. Gemeindeversammlung
DESCRIPTION:
CLASS:PUBLIC
DTSTART:20261118T180000Z
DTEND:20261118T190000Z
DTSTAMP:20260422T140019Z
END:VEVENT

END:VCALENDAR