BEGIN:VCALENDAR
VERSION:2.0
PRODID:nkc_event TYPO3 Extension
METHOD:PUBLISH
BEGIN:VEVENT
UID:a929bac8d62c23c3e1e481f8f708d8ac
LOCATION:Christus-Kirche Wahlstedt
SUMMARY:Gottesdienst\, Pastorin Manuela Zschaubitz
DESCRIPTION:
CLASS:PUBLIC
DTSTART:20260524T090000Z
DTEND:20260524T100000Z
DTSTAMP:20260423T141818Z
END:VEVENT

END:VCALENDAR