BEGIN:VCALENDAR
VERSION:2.0
PRODID:nkc_event TYPO3 Extension
METHOD:PUBLISH
BEGIN:VEVENT
UID:410a7ea2a691ad3cceca38aae613812b
LOCATION:Haus der Begegnung
SUMMARY:Kinder- und Jugendtreff HdB
DESCRIPTION:Hier im Haus der Begegnung wird gebastelt\, Tischtennis\, Billiard und Kicker gespielt\, Musik gehört und am PC Zeit verbracht. Im Toberaum wird die Hängematte gern genutzt und wir kochen und essen gemeinsam. In den Ferien finden besondere Angebote statt\, für die eine Anmeldung nötig ist.\n\nNach der Schule ist hier bei uns der richtige Platz gemeinsam mit Freunden sich zu treffen und zu chillen.\n
CLASS:PUBLIC
DTSTART:20260506T130000Z
DTEND:20260506T160000Z
DTSTAMP:20260422T123919Z
END:VEVENT

END:VCALENDAR