BEGIN:VCALENDAR
VERSION:2.0
PRODID:nkc_event TYPO3 Extension
METHOD:PUBLISH
BEGIN:VEVENT
UID:40b0e1aae27ae194d41d8333dab4c325
LOCATION:An der Waldhalle
SUMMARY:Ökumenischer Open-Air Sprengelgottesdienst an der Waldhalle
DESCRIPTION:
CLASS:PUBLIC
DTSTART:20260514T083000Z
DTEND:20260514T093000Z
DTSTAMP:20260425T103713Z
END:VEVENT

END:VCALENDAR