BEGIN:VCALENDAR
VERSION:2.0
PRODID:nkc_event TYPO3 Extension
METHOD:PUBLISH
BEGIN:VEVENT
UID:d4dbe365c296b648ae52eb2f4c6f99d1
LOCATION:Lindenhof Kapelle
SUMMARY:Einladung zum Gottesdienst in die Kapelle Lindenhof
DESCRIPTION:
CLASS:PUBLIC
DTSTART:20260614T070000Z
DTEND:20260614T080000Z
DTSTAMP:20260423T162044Z
END:VEVENT

END:VCALENDAR