BEGIN:VCALENDAR
VERSION:2.0
PRODID:nkc_event TYPO3 Extension
METHOD:PUBLISH
BEGIN:VEVENT
UID:56ac0918aeb43e6c95269a21f7fa1a2c
LOCATION:St. Birgitta-Thomas-Kirche Kiel-Mettenhof
SUMMARY:Ökumenischer Gottesdienst mit der Ev.-Luth. Christusgemeinde Kronshagen
DESCRIPTION:
CLASS:PUBLIC
DTSTART:20260525T090000Z
DTEND:20260525T100000Z
DTSTAMP:20260422T014614Z
END:VEVENT

END:VCALENDAR